BEGIN:VCALENDAR
VERSION:2.0
PRODID:-//GPS Epic Samsys - ECPv5.0.3.1//NONSGML v1.0//EN
CALSCALE:GREGORIAN
METHOD:PUBLISH
X-WR-CALNAME:GPS Epic Samsys
X-ORIGINAL-URL:https://gpsepic.com
X-WR-CALDESC:Events for GPS Epic Samsys
BEGIN:VTIMEZONE
TZID:Europe/Lisbon
BEGIN:DAYLIGHT
TZOFFSETFROM:+0000
TZOFFSETTO:+0100
TZNAME:WEST
DTSTART:20190331T010000
END:DAYLIGHT
BEGIN:STANDARD
TZOFFSETFROM:+0100
TZOFFSETTO:+0000
TZNAME:WET
DTSTART:20191027T010000
END:STANDARD
END:VTIMEZONE
BEGIN:VEVENT
DTSTART;TZID=Europe/Lisbon:20191116T073000
DTEND;TZID=Europe/Lisbon:20191116T180000
DTSTAMP:20260426T040817
CREATED:20191017T205859Z
LAST-MODIFIED:20221209T100316Z
UID:23662-1573889400-1573927200@gpsepic.com
SUMMARY:GPS Epic Samsys - 8ª Etapa - Terra de Encantos
DESCRIPTION:  \n \nO GPS EPIC Samsys reservou-te como a surpresa de 2019 a desafiante visita às fantásticas Serras de Fafe. \n  \n\nNesta etapa queremos mostrar-te o que Fafe tem de melhor\, paisagens incríveis\, cultura\, sabores\, tradição. \n\n\nVem provar a famosa Vitela à moda de Fafe\, a doçaria tradicional e o Vinho Verde da região. \n\n\nVem apreciar as paisagens mais deslumbrantes e pedalar por trilhos incríveis e pelos emocionantes troços de Rali\, o famoso Salto da Pedra Sentada e o Confurco estão à tua espera. \n\n\nVem conhecer a recentemente considerada como a casa mais estranha do mundo\, a Casa do Penedo\, cuja imagem fascina todos e a Quinta do Confurco\, onde poderás conviver de perto com os seus simpáticos habitantes. \nVem subir ao Alto de Morgair\, logo a seguir propomos-te um pequeno desvio para uma entrada secreta que te mostrará um dos sítios mais bonitos do mundo\, a Lage Branca. \nAntes do final poderás ainda conhecer a Barragem de Queimadela e se tiveres coragem dar o mergulho do ano. \nNesta etapa queremos mostrar-te a Terra de Encantos\, Sabores\, Emoções e Cultura. Atreve-te a aceitar este desafio. Atreve-te a conhecer a Justiça de Fafe. \n  \n\nPercursos:\n80 Kms\n55 Kms \n  \nOrganização – GPS EPIC Samsys\nApoio e Co-Organização: Município de Fafe/Samsys \n  \nPagamento das inscrições por transferência bancária:\nIBAN: PT50 0045 1352 4024 4374 4563 7 \nTitular Conta: Bruno Miguel Vasconcelos RR BTT \nEnviar comprovativo c/ nome e número EpicID de inscrição para o email: validacoes.epic@gmail.com \n  \nSecretariado: Posto de Turismo de Fafe\nLocalização: Praça 25 de Abril\, 4820-142 Fafe\nCoordenadas GPS: Latitude: 41.451458\, -8.170453\nBanhos/Estacionamento: Pavilhão Multiusos Fafe \n
URL:https://gpsepic.com/etapa/8a-etapa-terra-dos-encantos/
LOCATION:Posto de Turismo de Fafe\, Praça 25 de Abril\, Fafe\, 4820-142\, Portugal
END:VEVENT
END:VCALENDAR