BEGIN:VCALENDAR
VERSION:2.0
PRODID:-//GPS Epic Samsys - ECPv5.0.3.1//NONSGML v1.0//EN
CALSCALE:GREGORIAN
METHOD:PUBLISH
X-WR-CALNAME:GPS Epic Samsys
X-ORIGINAL-URL:https://gpsepic.com
X-WR-CALDESC:Events for GPS Epic Samsys
BEGIN:VTIMEZONE
TZID:Europe/Lisbon
BEGIN:DAYLIGHT
TZOFFSETFROM:+0000
TZOFFSETTO:+0100
TZNAME:WEST
DTSTART:20200329T010000
END:DAYLIGHT
BEGIN:STANDARD
TZOFFSETFROM:+0100
TZOFFSETTO:+0000
TZNAME:WET
DTSTART:20201025T010000
END:STANDARD
END:VTIMEZONE
BEGIN:VEVENT
DTSTART;TZID=Europe/Lisbon:20200222T080000
DTEND;TZID=Europe/Lisbon:20200222T180000
DTSTAMP:20260426T042253
CREATED:20200129T163739Z
LAST-MODIFIED:20221209T094950Z
UID:26114-1582358400-1582394400@gpsepic.com
SUMMARY:GPS Epic Samsys - 1ª Etapa 2020 - Entre o Inha e o Uíma
DESCRIPTION:  \n \n  \nSejam bem-vindos à 1ª Etapa do GPS EPIC Samsys de 2020 – “Apresentação EPIC 2020” \nEsta etapa é organizada pelo Grupo BTT ECOBIKE\, e decorre em várias freguesias de Santa Maria da Feira\, à descoberta de lugares históricos e pretende ser uma viagem de descoberta de dois afluentes do Douro\, os rios Inha e Uima\, dando mote ao tema deste ano “Por entre Rios e Castelos”.\n \nMozelos e o novo pavilhão desportivo\, ali construído\, vai acolher esta etapa. \nFreguesia: Mozelos\nConcelho: Santa Maria da Feira\nDistrito: Aveiro\nGPS: 40.992154\, -8.564923 \nLocal Partida/Secretariado: Pavilhão Municipal de Mozelos – Santa Maria da Feira\nFuncionamento do secretariado: 08:00h – 9:00h\nInício do passeio: 08:00h / Fim: 18:00h \nPreço Inscrição: 8€ \nNota: O valor da inscrição foi atualizado para 8 Euros e deixa de haver diferenciação entre quem possuí seguro próprio e quem deseja o seguro do evento.\nTodos os inscritos validados estão abrangidos pelo seguro do passeio (mesmo aqueles que já tem seguro próprio). \nApós te inscreveres nesta etapa\, irás receber email com a informação para pagamento e tens de efetuar a validação através do envio o comprovativo para validacoes.epic@gmail.com\, juntamente com o teu ID até ao dia 18 de fevereiro. \n\n
URL:https://gpsepic.com/etapa/1a-etapa-mozelos-santa-maria-da-feira/
LOCATION:Pavilhão Municipal de Mozelos\, Tv. José Santos Cardoso 285 4535\, Mozelos\, Portugal
END:VEVENT
END:VCALENDAR